BEGIN:VCALENDAR
VERSION:2.0
PRODID:-//ChamberMaster//Event Calendar 2.0//EN
METHOD:PUBLISH
X-PUBLISHED-TTL:P3D
REFRESH-INTERVAL:P3D
CALSCALE:GREGORIAN
BEGIN:VEVENT
DTSTART:20251004T003000Z
DTEND:20251004T033000Z
X-MICROSOFT-CDO-ALLDAYEVENT:FALSE
SUMMARY:CR Science Night
DESCRIPTION:We are working hard behind to scenes to bring together this year's Science Night to life!\n\nHands-on experiments and demonstrations will be stationed across campus to explore and discover the excitement of scientific learning. We can't wait to see you.\n\nPlease join us on October 3rd\, 5:30 - 8:30 pm- all ages welcome
X-ALT-DESC;FMTTYPE=text/html:<div class="xdj266r x14z9mp xat24cr x1lziwak x1vvkbs" style="margin: 0px\; overflow-wrap: break-word\; font-family: &quot\;Segoe UI Historic&quot\;\, &quot\;Segoe UI&quot\;\, Helvetica\, Arial\, sans-serif\; color: rgb(8\, 8\, 9)\; font-size: 15px\; background-color: rgb(255\, 255\, 255)\;">We are working hard behind to scenes to bring together this year&#39\;s Science Night to life!</div>\n\n<div class="x14z9mp xat24cr x1lziwak x1vvkbs xtlvy1s" style="margin: 0.5em 0px 0px\; overflow-wrap: break-word\; font-family: &quot\;Segoe UI Historic&quot\;\, &quot\;Segoe UI&quot\;\, Helvetica\, Arial\, sans-serif\; color: rgb(8\, 8\, 9)\; font-size: 15px\; background-color: rgb(255\, 255\, 255)\;">Hands-on experiments and demonstrations will be stationed across campus to explore and discover the excitement of scientific learning. We can&#39\;t wait to see you.</div>\n\n<div class="x14z9mp xat24cr x1lziwak x1vvkbs xtlvy1s" style="margin: 0.5em 0px 0px\; overflow-wrap: break-word\; font-family: &quot\;Segoe UI Historic&quot\;\, &quot\;Segoe UI&quot\;\, Helvetica\, Arial\, sans-serif\; color: rgb(8\, 8\, 9)\; font-size: 15px\; background-color: rgb(255\, 255\, 255)\;">Please join us on October 3rd\, 5:30 - 8:30 pm- all ages welcome</div>\n
LOCATION:
UID:e.3418.2523
SEQUENCE:3
DTSTAMP:20260419T194836Z
URL:http://fortunachamber.chambermaster.com/events/details/cr-science-night-2523
END:VEVENT

END:VCALENDAR
